BEGIN:VCALENDAR
PRODID:-//Microsoft Corporation//Outlook MIMEDIR//EN
VERSION:2.0
METHOD:PUBLISH
BEGIN:VEVENT
DTSTART:20260430T110000
DTEND:20260430T120000
DESCRIPTION:
LOCATION:Committee Room - City Hall
SUMMARY:Committee on Finance
CATEGORIES:MEETING
END:VEVENT
END:VCALENDAR
